BEGIN:VCALENDAR
VERSION:2.0
PRODID:-//ddaysoftware.com//NONSGML DDay.iCal 1.0//EN
BEGIN:VTIMEZONE
TZID:W. Europe Standard Time
BEGIN:STANDARD
DTSTART:20251002T030000
RRULE:FREQ=YEARLY;BYDAY=-1SU;BYHOUR=3;BYMINUTE=0;BYMONTH=10
TZNAME:Mitteleuropäische Zeit
TZOFFSETFROM:+0200
TZOFFSETTO:+0100
END:STANDARD
BEGIN:DAYLIGHT
DTSTART:20250301T020000
RRULE:FREQ=YEARLY;BYDAY=-1SU;BYHOUR=2;BYMINUTE=0;BYMONTH=3
TZNAME:Mitteleuropäische Sommerzeit
TZOFFSETFROM:+0100
TZOFFSETTO:+0200
END:DAYLIGHT
END:VTIMEZONE
BEGIN:VEVENT
CATEGORIES:Sport\, Freizeit
DESCRIPTION:\n\nVeranstalter: 1. Boule Club Mechenhard\n\nhttps://www.stadt
 -erlenbach.de/kultur-tourismus/veranstaltungen/dachkonnel-cup/
DTEND:20261003T110000
DTSTAMP:20260420T152333Z
DTSTART:20261003T100000
LOCATION:Franziskuspark in Streit: Mechenharder Straße 302\, 63906 Erlenbac
 h a. Main 
SEQUENCE:0
SUMMARY:Dachkonnel-Cup
UID:194589
URL:https://www.stadt-erlenbach.de/kultur-tourismus/veranstaltungen/dachkon
 nel-cup/
END:VEVENT
END:VCALENDAR
