BEGIN:VCALENDAR
VERSION:2.0
PRODID:-//ddaysoftware.com//NONSGML DDay.iCal 1.0//EN
BEGIN:VTIMEZONE
TZID:W. Europe Standard Time
BEGIN:STANDARD
DTSTART:20251002T030000
RRULE:FREQ=YEARLY;BYDAY=-1SU;BYHOUR=3;BYMINUTE=0;BYMONTH=10
TZNAME:Mitteleuropäische Zeit
TZOFFSETFROM:+0200
TZOFFSETTO:+0100
END:STANDARD
BEGIN:DAYLIGHT
DTSTART:20250301T020000
RRULE:FREQ=YEARLY;BYDAY=-1SU;BYHOUR=2;BYMINUTE=0;BYMONTH=3
TZNAME:Mitteleuropäische Sommerzeit
TZOFFSETFROM:+0100
TZOFFSETTO:+0200
END:DAYLIGHT
END:VTIMEZONE
BEGIN:VEVENT
CATEGORIES:Senioren
DESCRIPTION:\n\nVeranstalter: Stadt Erlenbach a.Main\n\nhttps://www.stadt-e
 rlenbach.de/kultur-tourismus/veranstaltungen/daemmerschoppen-in-mechenhard
 -2/
DTEND:20260819T180000
DTSTAMP:20260423T183920Z
DTSTART:20260819T170000
LOCATION:Mechenharder "Woischeuer" Dieter Zöller: Mechenharder Straße 193\,
  63906 Erlenbach a. Main 
SEQUENCE:0
SUMMARY:Dämmerschoppen in Mechenhard
UID:193953
URL:https://www.stadt-erlenbach.de/kultur-tourismus/veranstaltungen/daemmer
 schoppen-in-mechenhard-2/
END:VEVENT
END:VCALENDAR
