BEGIN:VCALENDAR
VERSION:2.0
PRODID:-//ddaysoftware.com//NONSGML DDay.iCal 1.0//EN
BEGIN:VTIMEZONE
TZID:W. Europe Standard Time
BEGIN:STANDARD
DTSTART:20251002T030000
RRULE:FREQ=YEARLY;BYDAY=-1SU;BYHOUR=3;BYMINUTE=0;BYMONTH=10
TZNAME:Mitteleuropäische Zeit
TZOFFSETFROM:+0200
TZOFFSETTO:+0100
END:STANDARD
BEGIN:DAYLIGHT
DTSTART:20250301T020000
RRULE:FREQ=YEARLY;BYDAY=-1SU;BYHOUR=2;BYMINUTE=0;BYMONTH=3
TZNAME:Mitteleuropäische Sommerzeit
TZOFFSETFROM:+0100
TZOFFSETTO:+0200
END:DAYLIGHT
END:VTIMEZONE
BEGIN:VEVENT
CATEGORIES:Vereine
DESCRIPTION:\n\nVeranstalter: Stadt Erlenbach a.Main\n\nhttps://www.stadt-e
 rlenbach.de/kultur-tourismus/veranstaltungen/ehrenabend-der-vereine/
DTEND:20261112T200000
DTSTAMP:20260421T050304Z
DTSTART:20261112T190000
LOCATION:Frankenhalle: Dr.-Vits-Straße 10\, 63906 Erlenbach a. Main 
SEQUENCE:0
SUMMARY:Ehrenabend der Vereine
UID:197588
URL:https://www.stadt-erlenbach.de/kultur-tourismus/veranstaltungen/ehrenab
 end-der-vereine/
END:VEVENT
END:VCALENDAR
