BEGIN:VCALENDAR
VERSION:2.0
PRODID:-//ddaysoftware.com//NONSGML DDay.iCal 1.0//EN
BEGIN:VTIMEZONE
TZID:W. Europe Standard Time
BEGIN:STANDARD
DTSTART:20251002T030000
RRULE:FREQ=YEARLY;BYDAY=-1SU;BYHOUR=3;BYMINUTE=0;BYMONTH=10
TZNAME:Mitteleuropäische Zeit
TZOFFSETFROM:+0200
TZOFFSETTO:+0100
END:STANDARD
BEGIN:DAYLIGHT
DTSTART:20250301T020000
RRULE:FREQ=YEARLY;BYDAY=-1SU;BYHOUR=2;BYMINUTE=0;BYMONTH=3
TZNAME:Mitteleuropäische Sommerzeit
TZOFFSETFROM:+0100
TZOFFSETTO:+0200
END:DAYLIGHT
END:VTIMEZONE
BEGIN:VEVENT
CATEGORIES:Startseite
CATEGORIES:Kirchliche Veranstaltung
DESCRIPTION:Friedhöfe in Erlenbach\, Mechenhard und Streit\n\nVeranstalter:
  Katholische Pfarreien\n\nhttps://www.stadt-erlenbach.de/kultur-tourismus/
 veranstaltungen/graebersegnung-in-den-friedhoefen/
DTEND:20261101T000000
DTSTAMP:20260420T154615Z
DTSTART;VALUE=DATE:20261031
SEQUENCE:0
SUMMARY:Gräbersegnung in den Friedhöfen
UID:190882
URL:https://www.stadt-erlenbach.de/kultur-tourismus/veranstaltungen/graeber
 segnung-in-den-friedhoefen/
END:VEVENT
END:VCALENDAR
