BEGIN:VCALENDAR
VERSION:2.0
PRODID:-//ddaysoftware.com//NONSGML DDay.iCal 1.0//EN
BEGIN:VTIMEZONE
TZID:W. Europe Standard Time
BEGIN:STANDARD
DTSTART:20251002T030000
RRULE:FREQ=YEARLY;BYDAY=-1SU;BYHOUR=3;BYMINUTE=0;BYMONTH=10
TZNAME:Mitteleuropäische Zeit
TZOFFSETFROM:+0200
TZOFFSETTO:+0100
END:STANDARD
BEGIN:DAYLIGHT
DTSTART:20250301T020000
RRULE:FREQ=YEARLY;BYDAY=-1SU;BYHOUR=2;BYMINUTE=0;BYMONTH=3
TZNAME:Mitteleuropäische Sommerzeit
TZOFFSETFROM:+0100
TZOFFSETTO:+0200
END:DAYLIGHT
END:VTIMEZONE
BEGIN:VEVENT
CATEGORIES:Startseite
CATEGORIES:Highlight
CATEGORIES:Familie
CATEGORIES:Frankenhalle
CATEGORIES:Kabarett\, Theater
DESCRIPTION:Das Ensemble begeistert die kleinen und großen Zuschauer mit wu
 nderbaren Stimmen\, einzigartigen Kostümen sowie lustigen Schauspiel-Szene
 n und energiegeladenen Tänzen.\n\nhttps://www.stadt-erlenbach.de/kultur-to
 urismus/veranstaltungen/familienmusical-yakari-freunde-fuers-leben/
DTEND:20261016T173000
DTSTAMP:20260420T111329Z
DTSTART:20261016T163000
LOCATION:Frankenhalle: Dr.-Vits-Straße 10\, 63906 Erlenbach a. Main 
SEQUENCE:0
SUMMARY:Familienmusical "YAKARI – Freunde fürs Leben"
UID:196799
URL:https://www.stadt-erlenbach.de/kultur-tourismus/veranstaltungen/familie
 nmusical-yakari-freunde-fuers-leben/
END:VEVENT
BEGIN:VEVENT
CATEGORIES:Startseite
CATEGORIES:Highlight
CATEGORIES:Frankenhalle
CATEGORIES:Kabarett\, Theater
DESCRIPTION:\n\nVeranstalter: DJK Wörth\n\nhttps://www.stadt-erlenbach.de/k
 ultur-tourismus/veranstaltungen/sebastian-reich-amanda-purer-zufall/
DTEND:20261017T210000
DTSTAMP:20260420T111329Z
DTSTART:20261017T200000
LOCATION:Frankenhalle: Dr.-Vits-Straße 10\, 63906 Erlenbach a. Main 
SEQUENCE:0
SUMMARY:Sebastian Reich & Amanda: Purer Zufall
UID:190672
URL:https://www.stadt-erlenbach.de/kultur-tourismus/veranstaltungen/sebasti
 an-reich-amanda-purer-zufall/
END:VEVENT
BEGIN:VEVENT
CATEGORIES:Kabarett\, Theater
CATEGORIES:Musik\, Musical\, Gesang\, Konzert
CATEGORIES:Advent- und Weihnachtszeit
CATEGORIES:Highlight
DESCRIPTION:Streitberghalle und Franziskuspark\n\nVeranstalter: Gesangverei
 n "Frisch auf" Streit\n\nhttps://www.stadt-erlenbach.de/kultur-tourismus/v
 eranstaltungen/streiter-kulturgenuss/
DTEND;VALUE=DATE:20261129
DTSTAMP:20260420T111329Z
DTSTART;VALUE=DATE:20261128
LOCATION:Streitberghalle: Mechenharder Straße 302\, 63906 Erlenbach a. Main
  
SEQUENCE:0
SUMMARY:Streiter Kulturgenuss
UID:194343
URL:https://www.stadt-erlenbach.de/kultur-tourismus/veranstaltungen/streite
 r-kulturgenuss/
END:VEVENT
BEGIN:VEVENT
CATEGORIES:Startseite
CATEGORIES:Highlight
CATEGORIES:Frankenhalle
CATEGORIES:Kabarett\, Theater
DESCRIPTION:\n\nhttps://www.stadt-erlenbach.de/kultur-tourismus/veranstaltu
 ngen/schlongonges-mit-lisa-marie-fitz/
DTEND:20270417T210000
DTSTAMP:20260420T111329Z
DTSTART:20270417T200000
LOCATION:Frankenhalle: Dr.-Vits-Straße 10\, 63906 Erlenbach a. Main 
SEQUENCE:0
SUMMARY:Schlongonges mit Lisa-Marie Fitz
UID:197597
URL:https://www.stadt-erlenbach.de/kultur-tourismus/veranstaltungen/schlong
 onges-mit-lisa-marie-fitz/
END:VEVENT
BEGIN:VEVENT
CATEGORIES:Startseite
CATEGORIES:Highlight
CATEGORIES:Frankenhalle
CATEGORIES:Kabarett\, Theater
DESCRIPTION:\n\nhttps://www.stadt-erlenbach.de/kultur-tourismus/veranstaltu
 ngen/schlongonges-venushuegel-vom-mut-ueber-sich-selbst-zu-lachen/
DTEND:20270417T210000
DTSTAMP:20260420T111329Z
DTSTART:20270417T200000
LOCATION:Frankenhalle: Dr.-Vits-Straße 10\, 63906 Erlenbach a. Main 
SEQUENCE:0
SUMMARY:Schlongonges: "Venushügel – vom Mut über sich selbst zu lachen“
UID:197675
URL:https://www.stadt-erlenbach.de/kultur-tourismus/veranstaltungen/schlong
 onges-venushuegel-vom-mut-ueber-sich-selbst-zu-lachen/
END:VEVENT
END:VCALENDAR
