BEGIN:VCALENDAR
VERSION:2.0
PRODID:-//ddaysoftware.com//NONSGML DDay.iCal 1.0//EN
BEGIN:VTIMEZONE
TZID:W. Europe Standard Time
BEGIN:STANDARD
DTSTART:20251002T030000
RRULE:FREQ=YEARLY;BYDAY=-1SU;BYHOUR=3;BYMINUTE=0;BYMONTH=10
TZNAME:Mitteleuropäische Zeit
TZOFFSETFROM:+0200
TZOFFSETTO:+0100
END:STANDARD
BEGIN:DAYLIGHT
DTSTART:20250301T020000
RRULE:FREQ=YEARLY;BYDAY=-1SU;BYHOUR=2;BYMINUTE=0;BYMONTH=3
TZNAME:Mitteleuropäische Sommerzeit
TZOFFSETFROM:+0100
TZOFFSETTO:+0200
END:DAYLIGHT
END:VTIMEZONE
BEGIN:VEVENT
CATEGORIES:Sonstiges
DESCRIPTION:\n\nVeranstalter: Verein für Handel und Gewerbe - VHG\n\nhttps:
 //www.stadt-erlenbach.de/kultur-tourismus/veranstaltungen/muttertagsaktion
 -zum-muttertag/
DTEND:20260510T000000
DTSTAMP:20260419T131120Z
DTSTART;VALUE=DATE:20260422
LOCATION:Erlenbacher Geschäfte: 63906 Erlenbach 
SEQUENCE:0
SUMMARY:Muttertagsaktion zum Muttertag
UID:192197
URL:https://www.stadt-erlenbach.de/kultur-tourismus/veranstaltungen/muttert
 agsaktion-zum-muttertag/
END:VEVENT
BEGIN:VEVENT
CATEGORIES:Sonstiges
DESCRIPTION:in Kooperation mit der Polizei Obernburg\n\nVeranstalter: Freiz
 eitclub Ortsgruppe\n\nhttps://www.stadt-erlenbach.de/kultur-tourismus/vera
 nstaltungen/gewaltpraevention-und-selbstverteidigung/
DTEND:20260425T110000
DTSTAMP:20260419T131120Z
DTSTART:20260425T100000
LOCATION:Barbarossahalle: Elsenfelder Straße 53\, 63906 Erlenbach a. Main
SEQUENCE:0
SUMMARY:Gewaltprävention und Selbstverteidigung
UID:198212
URL:https://www.stadt-erlenbach.de/kultur-tourismus/veranstaltungen/gewaltp
 raevention-und-selbstverteidigung/
END:VEVENT
BEGIN:VEVENT
CATEGORIES:Sonstiges
DESCRIPTION:\n\nVeranstalter: Baum Events\n\nhttps://www.stadt-erlenbach.de
 /kultur-tourismus/veranstaltungen/muttertagsfruehstueck-auf-dem-minigolfpl
 atz/
DTEND:20260510T120000
DTSTAMP:20260419T131120Z
DTSTART:20260510T110000
LOCATION:Minigolfplatz: Schlesienstraße \, 63906 Erlenbach a. Main 
SEQUENCE:0
SUMMARY:Muttertagsfrühstück auf dem Minigolfplatz
UID:198375
URL:https://www.stadt-erlenbach.de/kultur-tourismus/veranstaltungen/muttert
 agsfruehstueck-auf-dem-minigolfplatz/
END:VEVENT
BEGIN:VEVENT
CATEGORIES:Sonstiges
DESCRIPTION:\n\nVeranstalter: Verein für Handel und Gewerbe - VHG\n\nhttps:
 //www.stadt-erlenbach.de/kultur-tourismus/veranstaltungen/aktion-schoppedo
 llar-zum-weinfest/
DTEND:20260713T000000
DTSTAMP:20260419T131120Z
DTSTART;VALUE=DATE:20260610
LOCATION:Erlenbacher Geschäfte: 63906 Erlenbach 
SEQUENCE:0
SUMMARY:Aktion "Schoppedollar" zum Weinfest
UID:192199
URL:https://www.stadt-erlenbach.de/kultur-tourismus/veranstaltungen/aktion-
 schoppedollar-zum-weinfest/
END:VEVENT
BEGIN:VEVENT
CATEGORIES:Highlight
CATEGORIES:Startseite
CATEGORIES:Sonstiges
DESCRIPTION:In Streit\, Am Ebertsweg - Metamorphosis-Stiftung\, Streit\; He
 rr Dollansky. Weitere Infos dazu folgen!\n\nhttps://www.stadt-erlenbach.de
 /kultur-tourismus/veranstaltungen/einweihung-schmetterlingsgarten/
DTEND;VALUE=DATE:20260907
DTSTAMP:20260419T131120Z
DTSTART;VALUE=DATE:20260906
LOCATION:siehe Text!
SEQUENCE:0
SUMMARY:Einweihung Schmetterlingsgarten	
UID:197347
URL:https://www.stadt-erlenbach.de/kultur-tourismus/veranstaltungen/einweih
 ung-schmetterlingsgarten/
END:VEVENT
BEGIN:VEVENT
CATEGORIES:Sonstiges
CATEGORIES:Vereine
DESCRIPTION:weitere Infos dazu folgen zu einem späteren Zeitpunkt!\n\nVeran
 stalter: Radsportverein "Einigkeit"\n\nhttps://www.stadt-erlenbach.de/kult
 ur-tourismus/veranstaltungen/einweihung-ruhebank-im-weinberg/
DTEND;VALUE=DATE:20260913
DTSTAMP:20260419T131120Z
DTSTART;VALUE=DATE:20260912
LOCATION:Weinberg Mechenhard: Mechenharder Weinberg\, 63906 Erlenbach a. Ma
 in
SEQUENCE:0
SUMMARY:Einweihung Ruhebank im Weinberg Mechenhard
UID:196426
URL:https://www.stadt-erlenbach.de/kultur-tourismus/veranstaltungen/einweih
 ung-ruhebank-im-weinberg/
END:VEVENT
END:VCALENDAR
