BEGIN:VCALENDAR
VERSION:2.0
PRODID:-//ddaysoftware.com//NONSGML DDay.iCal 1.0//EN
BEGIN:VTIMEZONE
TZID:W. Europe Standard Time
BEGIN:STANDARD
DTSTART:20251002T030000
RRULE:FREQ=YEARLY;BYDAY=-1SU;BYHOUR=3;BYMINUTE=0;BYMONTH=10
TZNAME:Mitteleuropäische Zeit
TZOFFSETFROM:+0200
TZOFFSETTO:+0100
END:STANDARD
BEGIN:DAYLIGHT
DTSTART:20250301T020000
RRULE:FREQ=YEARLY;BYDAY=-1SU;BYHOUR=2;BYMINUTE=0;BYMONTH=3
TZNAME:Mitteleuropäische Sommerzeit
TZOFFSETFROM:+0100
TZOFFSETTO:+0200
END:DAYLIGHT
END:VTIMEZONE
BEGIN:VEVENT
CATEGORIES:Highlight
CATEGORIES:Fest\, Kulinarisches
CATEGORIES:Tradition
CATEGORIES:Vereine
CATEGORIES:Startseite
DESCRIPTION:Erlenbach\, Feuerwehrhaus - Aufstellung um 18 Uhr (Kaffee/Kuche
 n ab 16 Uhr)\;\nMechenhard\, Feuerwehrhaus - Aufstellung um 18 Uhr (musika
 lischer Zugmarsch um 17:45 Uhr)\;\nStreit\, hinter der Kirche - Aufstellun
 g um 18 Uhr (gefeiert wird im Anschluss)\n\nVeranstalter: Freiwillige Feue
 rwehr Mechenhard\, Gesang- und Musikverein "Eintracht" Mechenhard\, Freiwi
 llige Feuerwehr Erlenbach a. Main\, Freiwillige Feuerwehr Streit\n\nhttps:
 //www.stadt-erlenbach.de/kultur-tourismus/veranstaltungen/maibaumaufstellu
 ngen-in-erlenbach-mechenhard-streit/
DTEND:20260430T190000
DTSTAMP:20260420T211609Z
DTSTART:20260430T180000
SEQUENCE:0
SUMMARY:Maibaumaufstellungen in Erlenbach - Mechenhard - Streit
UID:192393
URL:https://www.stadt-erlenbach.de/kultur-tourismus/veranstaltungen/maibaum
 aufstellungen-in-erlenbach-mechenhard-streit/
END:VEVENT
END:VCALENDAR
