BEGIN:VCALENDAR
VERSION:2.0
PRODID:-//ddaysoftware.com//NONSGML DDay.iCal 1.0//EN
BEGIN:VTIMEZONE
TZID:W. Europe Standard Time
BEGIN:STANDARD
DTSTART:20251002T030000
RRULE:FREQ=YEARLY;BYDAY=-1SU;BYHOUR=3;BYMINUTE=0;BYMONTH=10
TZNAME:Mitteleuropäische Zeit
TZOFFSETFROM:+0200
TZOFFSETTO:+0100
END:STANDARD
BEGIN:DAYLIGHT
DTSTART:20250301T020000
RRULE:FREQ=YEARLY;BYDAY=-1SU;BYHOUR=2;BYMINUTE=0;BYMONTH=3
TZNAME:Mitteleuropäische Sommerzeit
TZOFFSETFROM:+0100
TZOFFSETTO:+0200
END:DAYLIGHT
END:VTIMEZONE
BEGIN:VEVENT
CATEGORIES:Startseite
CATEGORIES:Highlight
CATEGORIES:Frankenhalle
CATEGORIES:Kabarett\, Theater
DESCRIPTION:\n\nhttps://www.stadt-erlenbach.de/kultur-tourismus/veranstaltu
 ngen/schlongonges-mit-lisa-marie-fitz/
DTEND:20270417T210000
DTSTAMP:20260421T142654Z
DTSTART:20270417T200000
LOCATION:Frankenhalle: Dr.-Vits-Straße 10\, 63906 Erlenbach a. Main 
SEQUENCE:0
SUMMARY:Schlongonges mit Lisa-Marie Fitz
UID:197597
URL:https://www.stadt-erlenbach.de/kultur-tourismus/veranstaltungen/schlong
 onges-mit-lisa-marie-fitz/
END:VEVENT
END:VCALENDAR
