BEGIN:VCALENDAR
VERSION:2.0
PRODID:-//ddaysoftware.com//NONSGML DDay.iCal 1.0//EN
BEGIN:VTIMEZONE
TZID:W. Europe Standard Time
BEGIN:STANDARD
DTSTART:20251002T030000
RRULE:FREQ=YEARLY;BYDAY=-1SU;BYHOUR=3;BYMINUTE=0;BYMONTH=10
TZNAME:Mitteleuropäische Zeit
TZOFFSETFROM:+0200
TZOFFSETTO:+0100
END:STANDARD
BEGIN:DAYLIGHT
DTSTART:20250301T020000
RRULE:FREQ=YEARLY;BYDAY=-1SU;BYHOUR=2;BYMINUTE=0;BYMONTH=3
TZNAME:Mitteleuropäische Sommerzeit
TZOFFSETFROM:+0100
TZOFFSETTO:+0200
END:DAYLIGHT
END:VTIMEZONE
BEGIN:VEVENT
CATEGORIES:Startseite
CATEGORIES:Highlight
CATEGORIES:Senioren
CATEGORIES:Frankenhalle
DESCRIPTION:Liebe Seniorinnen und Senioren ab 65 Jahre aus Erlenbach\, Mech
 enhard und Streit! Es wäre schön\, wenn ich Sie beim Seniorennachmittag be
 grüßen könnte!\n\nVeranstalter: Stadt Erlenbach a.Main\n\nhttps://www.stad
 t-erlenbach.de/kultur-tourismus/veranstaltungen/seniorennachmittag/
DTEND:20260506T160000
DTSTAMP:20260420T053635Z
DTSTART:20260506T150000
LOCATION:Frankenhalle: Dr.-Vits-Straße 10\, 63906 Erlenbach a. Main 
SEQUENCE:0
SUMMARY:Seniorennachmittag
UID:197566
URL:https://www.stadt-erlenbach.de/kultur-tourismus/veranstaltungen/seniore
 nnachmittag/
END:VEVENT
END:VCALENDAR
